BEGIN:VCALENDAR
VERSION:2.0
PRODID:-//Suomen SUP-liitto ry - ECPv5.1.6//NONSGML v1.0//EN
CALSCALE:GREGORIAN
METHOD:PUBLISH
X-WR-CALNAME:Suomen SUP-liitto ry
X-ORIGINAL-URL:https://www.finssf.fi
X-WR-CALDESC:Tapahtumat Suomen SUP-liitto ry
BEGIN:VTIMEZONE
TZID:Europe/Helsinki
BEGIN:DAYLIGHT
TZOFFSETFROM:+0200
TZOFFSETTO:+0300
TZNAME:EEST
DTSTART:20190331T010000
END:DAYLIGHT
BEGIN:STANDARD
TZOFFSETFROM:+0300
TZOFFSETTO:+0200
TZNAME:EET
DTSTART:20191027T010000
END:STANDARD
END:VTIMEZONE
BEGIN:VEVENT
DTSTART;TZID=Europe/Helsinki:20190831T090000
DTEND;TZID=Europe/Helsinki:20190831T170000
DTSTAMP:20260426T064222
CREATED:20190326T131245Z
LAST-MODIFIED:20190326T131245Z
UID:553-1567242000-1567270800@www.finssf.fi
SUMMARY:Tour de Laru - Lauttasaaren Ympäripurjehdus
DESCRIPTION:Elokuun lopussa purjehditaan ja suppaillaan taas Lauttasaaren ympäri. Lisätietoja tapahtumasta saatavilla myöhemmin.
URL:https://www.finssf.fi/tapahtuma/tour-de-laru-lauttasaaren-ymparipurjehdus/
END:VEVENT
END:VCALENDAR